BEGIN:VCALENDAR
VERSION:2.0
PRODID:-//pretix//pretix.eu//
BEGIN:VTIMEZONE
TZID:Europe/Madrid
BEGIN:STANDARD
DTSTART:20001029T040000
RRULE:FREQ=YEARLY;BYDAY=-1SU;BYMONTH=10
TZNAME:CET
TZOFFSETFROM:+0200
TZOFFSETTO:+0100
END:STANDARD
BEGIN:DAYLIGHT
DTSTART:20000326T030000
RRULE:FREQ=YEARLY;BYDAY=-1SU;BYMONTH=3
TZNAME:CEST
TZOFFSETFROM:+0100
TZOFFSETTO:+0200
END:DAYLIGHT
END:VTIMEZONE
BEGIN:VEVENT
UID:pretix-ovixia-guided-tour-annie-4750807@tickets.themopcenter.com
DTSTART;TZID=Europe/Madrid:20260428T120000
DTEND;TZID=Europe/Madrid:20260428T130000
DESCRIPTION:Entradas: https://tickets.themopcenter.com/guided-tour-annie/47
 50807/\nOrganizador: The MOP Foundation
DTSTAMP:20260425T134020Z
LOCATION:Centro MOP\, Muelle de Batería\, S/N\, 15001 A Coruña
SUMMARY:Visita guiada en español
END:VEVENT
END:VCALENDAR
